BEGIN:VCALENDAR
VERSION:2.0
PRODID:-//Creswick Pre-School - ECPv6.15.13.1//NONSGML v1.0//EN
CALSCALE:GREGORIAN
METHOD:PUBLISH
X-WR-CALNAME:Creswick Pre-School
X-ORIGINAL-URL:https://creswickpre-school.co.uk
X-WR-CALDESC:Events for Creswick Pre-School
REFRESH-INTERVAL;VALUE=DURATION:PT1H
X-Robots-Tag:noindex
X-PUBLISHED-TTL:PT1H
BEGIN:VTIMEZONE
TZID:UTC
BEGIN:STANDARD
TZOFFSETFROM:+0000
TZOFFSETTO:+0000
TZNAME:UTC
DTSTART:20220101T000000
END:STANDARD
END:VTIMEZONE
BEGIN:VEVENT
DTSTART;VALUE=DATE:20260413
DTEND;VALUE=DATE:20260414
DTSTAMP:20260423T115119
CREATED:20231102T112403Z
LAST-MODIFIED:20260106T150902Z
UID:1232-1776038400-1776124799@creswickpre-school.co.uk
SUMMARY:Summer Term Begins
DESCRIPTION:
URL:https://creswickpre-school.co.uk/date/summer-term-begins/
END:VEVENT
BEGIN:VEVENT
DTSTART;TZID=UTC:20260327T090000
DTEND;TZID=UTC:20260412T160000
DTSTAMP:20260423T115119
CREATED:20231102T112253Z
LAST-MODIFIED:20260106T150816Z
UID:1229-1774602000-1776009600@creswickpre-school.co.uk
SUMMARY:Spring Break
DESCRIPTION:Pre-School Closed
URL:https://creswickpre-school.co.uk/date/spring-break/
END:VEVENT
BEGIN:VEVENT
DTSTART;VALUE=DATE:20260326
DTEND;VALUE=DATE:20260327
DTSTAMP:20260423T115119
CREATED:20231102T112147Z
LAST-MODIFIED:20260106T150710Z
UID:1227-1774483200-1774569599@creswickpre-school.co.uk
SUMMARY:Last Day of Term
DESCRIPTION:
URL:https://creswickpre-school.co.uk/date/last-day-of-term/
END:VEVENT
BEGIN:VEVENT
DTSTART;VALUE=DATE:20260320
DTEND;VALUE=DATE:20260321
DTSTAMP:20260423T115119
CREATED:20250130T135346Z
LAST-MODIFIED:20260106T150541Z
UID:1262-1773964800-1774051199@creswickpre-school.co.uk
SUMMARY:Comic Relief
DESCRIPTION:
URL:https://creswickpre-school.co.uk/date/red-nose-day/
END:VEVENT
BEGIN:VEVENT
DTSTART;VALUE=DATE:20260305
DTEND;VALUE=DATE:20260306
DTSTAMP:20260423T115119
CREATED:20250130T135321Z
LAST-MODIFIED:20260106T150433Z
UID:1260-1772668800-1772755199@creswickpre-school.co.uk
SUMMARY:World Book Day
DESCRIPTION:
URL:https://creswickpre-school.co.uk/date/world-book-day/
END:VEVENT
BEGIN:VEVENT
DTSTART;TZID=UTC:20260216T090000
DTEND;TZID=UTC:20260220T160000
DTSTAMP:20260423T115119
CREATED:20231102T112003Z
LAST-MODIFIED:20260106T150344Z
UID:1225-1771232400-1771603200@creswickpre-school.co.uk
SUMMARY:February Half Term
DESCRIPTION:Pre-School Closed
URL:https://creswickpre-school.co.uk/date/february-half-term/
END:VEVENT
BEGIN:VEVENT
DTSTART;TZID=UTC:20260207T100000
DTEND;TZID=UTC:20260207T120000
DTSTAMP:20260423T115119
CREATED:20231102T111457Z
LAST-MODIFIED:20260106T150253Z
UID:1219-1770458400-1770465600@creswickpre-school.co.uk
SUMMARY:Stay & Play
DESCRIPTION:
URL:https://creswickpre-school.co.uk/date/stay-play-2/
END:VEVENT
BEGIN:VEVENT
DTSTART;VALUE=DATE:20260106
DTEND;VALUE=DATE:20260107
DTSTAMP:20260423T115119
CREATED:20221004T103746Z
LAST-MODIFIED:20260106T150213Z
UID:1173-1767657600-1767743999@creswickpre-school.co.uk
SUMMARY:Spring Term Begins
DESCRIPTION:
URL:https://creswickpre-school.co.uk/date/spring-term-begins-3/
END:VEVENT
BEGIN:VEVENT
DTSTART;VALUE=DATE:20250723
DTEND;VALUE=DATE:20250724
DTSTAMP:20260423T115119
CREATED:20231102T112728Z
LAST-MODIFIED:20250130T135038Z
UID:1239-1753228800-1753315199@creswickpre-school.co.uk
SUMMARY:Last Day of Term
DESCRIPTION:
URL:https://creswickpre-school.co.uk/date/last-day-of-term-2/
END:VEVENT
BEGIN:VEVENT
DTSTART;TZID=UTC:20231220T090000
DTEND;TZID=UTC:20240103T160000
DTSTAMP:20260423T115119
CREATED:20221004T103700Z
LAST-MODIFIED:20231102T111014Z
UID:1171-1703062800-1704297600@creswickpre-school.co.uk
SUMMARY:Christmas Break
DESCRIPTION:Pre-School Closed
URL:https://creswickpre-school.co.uk/date/christmas-break/
END:VEVENT
BEGIN:VEVENT
DTSTART;VALUE=DATE:20231219
DTEND;VALUE=DATE:20231220
DTSTAMP:20260423T115119
CREATED:20221004T103558Z
LAST-MODIFIED:20231102T110908Z
UID:1169-1702944000-1703030399@creswickpre-school.co.uk
SUMMARY:End of Term
DESCRIPTION:
URL:https://creswickpre-school.co.uk/date/end-of-term/
END:VEVENT
BEGIN:VEVENT
DTSTART;VALUE=DATE:20231207
DTEND;VALUE=DATE:20231208
DTSTAMP:20260423T115119
CREATED:20231102T111759Z
LAST-MODIFIED:20231102T111759Z
UID:1223-1701907200-1701993599@creswickpre-school.co.uk
SUMMARY:Christmas Jumper Day for Save the Children
DESCRIPTION:
URL:https://creswickpre-school.co.uk/date/christmas-jumper-day-for-save-the-children/
END:VEVENT
BEGIN:VEVENT
DTSTART;VALUE=DATE:20231206
DTEND;VALUE=DATE:20231207
DTSTAMP:20260423T115119
CREATED:20191126T131848Z
LAST-MODIFIED:20231102T111623Z
UID:925-1701820800-1701907199@creswickpre-school.co.uk
SUMMARY:Elf Day for Alzheimer's Society
DESCRIPTION:
URL:https://creswickpre-school.co.uk/date/elf-day-for-alzheimers-society/
END:VEVENT
BEGIN:VEVENT
DTSTART;VALUE=DATE:20231117
DTEND;VALUE=DATE:20231118
DTSTAMP:20260423T115119
CREATED:20231102T111706Z
LAST-MODIFIED:20231102T111706Z
UID:1221-1700179200-1700265599@creswickpre-school.co.uk
SUMMARY:Children in Need
DESCRIPTION:
URL:https://creswickpre-school.co.uk/date/children-in-need/
END:VEVENT
BEGIN:VEVENT
DTSTART;TZID=UTC:20231023T090000
DTEND;TZID=UTC:20231027T160000
DTSTAMP:20260423T115119
CREATED:20221004T103411Z
LAST-MODIFIED:20231102T110745Z
UID:1167-1698051600-1698422400@creswickpre-school.co.uk
SUMMARY:October Half Term
DESCRIPTION:Pre-School Closed
URL:https://creswickpre-school.co.uk/date/october-half-term/
END:VEVENT
BEGIN:VEVENT
DTSTART;VALUE=DATE:20231020
DTEND;VALUE=DATE:20231021
DTSTAMP:20260423T115119
CREATED:20221004T102946Z
LAST-MODIFIED:20231102T110525Z
UID:1161-1697760000-1697846399@creswickpre-school.co.uk
SUMMARY:Team Training
DESCRIPTION:Pre-School Closed
URL:https://creswickpre-school.co.uk/date/team-training/
END:VEVENT
BEGIN:VEVENT
DTSTART;VALUE=DATE:20230907
DTEND;VALUE=DATE:20230908
DTSTAMP:20260423T115119
CREATED:20221004T102855Z
LAST-MODIFIED:20231102T110258Z
UID:1159-1694044800-1694131199@creswickpre-school.co.uk
SUMMARY:Autumn Term Begins
DESCRIPTION:
URL:https://creswickpre-school.co.uk/date/autumn-term-begins-3/
END:VEVENT
END:VCALENDAR