BEGIN:VCALENDAR
VERSION:2.0
PRODID:-//Creswick Pre-School - ECPv6.15.13.1//NONSGML v1.0//EN
CALSCALE:GREGORIAN
METHOD:PUBLISH
X-ORIGINAL-URL:https://creswickpre-school.co.uk
X-WR-CALDESC:Events for Creswick Pre-School
REFRESH-INTERVAL;VALUE=DURATION:PT1H
X-Robots-Tag:noindex
X-PUBLISHED-TTL:PT1H
BEGIN:VTIMEZONE
TZID:UTC
BEGIN:STANDARD
TZOFFSETFROM:+0000
TZOFFSETTO:+0000
TZNAME:UTC
DTSTART:20250101T000000
END:STANDARD
END:VTIMEZONE
BEGIN:VEVENT
DTSTART;VALUE=DATE:20260504
DTEND;VALUE=DATE:20260505
DTSTAMP:20260423T115623
CREATED:20231102T112454Z
LAST-MODIFIED:20260106T151046Z
UID:1234-1777852800-1777939199@creswickpre-school.co.uk
SUMMARY:Bank Holiday
DESCRIPTION:Pre-School Closed
URL:https://creswickpre-school.co.uk/date/bank-holiday/
END:VEVENT
BEGIN:VEVENT
DTSTART;TZID=UTC:20260525T090000
DTEND;TZID=UTC:20260529T160000
DTSTAMP:20260423T115623
CREATED:20231102T112605Z
LAST-MODIFIED:20260106T151148Z
UID:1236-1779699600-1780070400@creswickpre-school.co.uk
SUMMARY:May Half Term
DESCRIPTION:Pre-School Closed
URL:https://creswickpre-school.co.uk/date/may-half-term/
END:VEVENT
END:VCALENDAR